BEGIN:VCALENDAR
VERSION:2.0
PRODID:-//Desert Streams Ministries - ECPv5.13.0//NONSGML v1.0//EN
CALSCALE:GREGORIAN
METHOD:PUBLISH
X-WR-CALNAME:Desert Streams Ministries
X-ORIGINAL-URL:https://dsministry.com
X-WR-CALDESC:Events for Desert Streams Ministries
REFRESH-INTERVAL;VALUE=DURATION:PT1H
X-Robots-Tag:noindex
X-PUBLISHED-TTL:PT1H
BEGIN:VTIMEZONE
TZID:America/New_York
BEGIN:DAYLIGHT
TZOFFSETFROM:-0500
TZOFFSETTO:-0400
TZNAME:EDT
DTSTART:20150308T070000
END:DAYLIGHT
BEGIN:STANDARD
TZOFFSETFROM:-0400
TZOFFSETTO:-0500
TZNAME:EST
DTSTART:20151101T060000
END:STANDARD
END:VTIMEZONE
BEGIN:VEVENT
DTSTART;TZID=America/New_York:20150916T190000
DTEND;TZID=America/New_York:20150916T200000
DTSTAMP:20260422T211421
CREATED:20150826T215019Z
LAST-MODIFIED:20150910T161547Z
UID:78-1442430000-1442433600@dsministry.com
SUMMARY:Ladies Living Life (L3) & Men Seeking God Group
DESCRIPTION:Ongoing group \nDo you long for a time & place to discuss how to live a Godly life with other people of God? Join us for a time of sharing ways to address and apply Biblical principles to the issues that we face\, such as stress\, relationships\, & finances. \nChildcare is provided as well as activities for the youth. Even if you can’t attend every week\, join us when you can! \nWe meet at Life Church / 1721 North Charlotte Avenue / Monroe\, NC 28110.
URL:https://dsministry.com/event/ladies-living-life/
END:VEVENT
BEGIN:VEVENT
DTSTART;TZID=America/New_York:20150916T190000
DTEND;TZID=America/New_York:20150916T203000
DTSTAMP:20260422T211421
CREATED:20150826T215041Z
LAST-MODIFIED:20150910T161432Z
UID:79-1442430000-1442435400@dsministry.com
SUMMARY:Marriage Enrichment Workshops
DESCRIPTION:September 29- November 3rd \nThis 6 week series will help men & women find practical tools to work through common issues married couples face. Topics discussed will include finances\, intimacy\, & communication. \nChildcare is not provided due to limited space. Even if you can’t attend every week\, join us when you can! \nWe meet at Desert Streams Ministry / 116 East Phifer Street / Monroe\, NC 28110.
URL:https://dsministry.com/event/marriage-enrichment/
END:VEVENT
END:VCALENDAR