BEGIN:VCALENDAR
VERSION:2.0
PRODID:-//Desert Streams Ministries - ECPv5.13.0//NONSGML v1.0//EN
CALSCALE:GREGORIAN
METHOD:PUBLISH
X-WR-CALNAME:Desert Streams Ministries
X-ORIGINAL-URL:https://dsministry.com
X-WR-CALDESC:Events for Desert Streams Ministries
REFRESH-INTERVAL;VALUE=DURATION:PT1H
X-Robots-Tag:noindex
X-PUBLISHED-TTL:PT1H
BEGIN:VTIMEZONE
TZID:America/New_York
BEGIN:DAYLIGHT
TZOFFSETFROM:-0500
TZOFFSETTO:-0400
TZNAME:EDT
DTSTART:20160313T070000
END:DAYLIGHT
BEGIN:STANDARD
TZOFFSETFROM:-0400
TZOFFSETTO:-0500
TZNAME:EST
DTSTART:20161106T060000
END:STANDARD
END:VTIMEZONE
BEGIN:VEVENT
DTSTART;TZID=America/New_York:20160324T100000
DTEND;TZID=America/New_York:20160324T113000
DTSTAMP:20260422T135711
CREATED:20160307T222621Z
LAST-MODIFIED:20160307T222621Z
UID:374-1458813600-1458819000@dsministry.com
SUMMARY:Worship Is This
DESCRIPTION:Let’s explore what it means to worship God. \nThe mightiest God wants the smallest part of you. \nThe biggest God wants your attention. \nThe highest God wants to sit next to you. \nWorship is this. \nLadies\, join us Thursday\, March 24- April 21\, 2016 from 10-11:30 am as we explore what it means to truly worship our Creator while encouraging each other in our Christian faith! \nThis five week series is $5 and meets at Desert Streams Ministry / 116 East Phifer Street / Monroe\, NC 28110 \n~Registration begins now and space is limited~
URL:https://dsministry.com/event/worship-is-this/2016-03-24/
LOCATION:Desert Streams Ministry\, 808 Circle Drive\, Monroe\, NC\, 28112\, United States
GEO:34.9930379;-80.547245
X-APPLE-STRUCTURED-LOCATION;VALUE=URI;X-ADDRESS=Desert Streams Ministry 808 Circle Drive Monroe NC 28112 United States;X-APPLE-RADIUS=500;X-TITLE=808 Circle Drive:geo:-80.547245,34.9930379
END:VEVENT
END:VCALENDAR