BEGIN:VCALENDAR
VERSION:2.0
PRODID:-//Desert Streams Ministries - ECPv5.13.0//NONSGML v1.0//EN
CALSCALE:GREGORIAN
METHOD:PUBLISH
X-WR-CALNAME:Desert Streams Ministries
X-ORIGINAL-URL:https://dsministry.com
X-WR-CALDESC:Events for Desert Streams Ministries
REFRESH-INTERVAL;VALUE=DURATION:PT1H
X-Robots-Tag:noindex
X-PUBLISHED-TTL:PT1H
BEGIN:VTIMEZONE
TZID:America/New_York
BEGIN:DAYLIGHT
TZOFFSETFROM:-0500
TZOFFSETTO:-0400
TZNAME:EDT
DTSTART:20170312T070000
END:DAYLIGHT
BEGIN:STANDARD
TZOFFSETFROM:-0400
TZOFFSETTO:-0500
TZNAME:EST
DTSTART:20171105T060000
END:STANDARD
END:VTIMEZONE
BEGIN:VEVENT
DTSTART;TZID=America/New_York:20170502T100000
DTEND;TZID=America/New_York:20170502T113000
DTSTAMP:20260421T181651
CREATED:20170427T031333Z
LAST-MODIFIED:20170427T031502Z
UID:885-1493719200-1493724600@dsministry.com
SUMMARY:Becoming More Than a Good Bible Study Girl
DESCRIPTION:“I really want to know God\, personally and intimately.” \n\nDo those words resonate with you? You’re tired of just going through the motions of being a Christian: Go to church. Pray. Be nice. That spiritual to-do list just doesn’t cut it. But what does? How do you step out of the drudger of religious duty to experience a living\, moment-by-moment\, deeply intimate relationship with God? \nJoin us at Desert Streams as Rebecca Culbertson leads you through this study with Lysa Terkeurst in six small group sessions that will transform your walk with Go from lackluster theory to vibrant reality! \nThe most invigorating and rewarding journey of your life awaits you as you discover how to: \n\nBuild personal\, two-way conversations with God.\nStudy the Bible and experience life change for yourself.\nCultivate great authenticity and depth in your relationships.\nMake disappointments work for you\, not against you.\nFind incredible joy as you live out your faith in everyday circumstances.\n\n 
URL:https://dsministry.com/event/becoming-good-bible-study-girl/2017-05-02/
ATTACH;FMTTYPE=image/jpeg:https://dsministry.com/wp-content/uploads/2017/04/Lysa-Terkuesrt-study.jpg
END:VEVENT
END:VCALENDAR