BEGIN:VCALENDAR
VERSION:2.0
PRODID:-//Desert Streams Ministries - ECPv5.13.0//NONSGML v1.0//EN
CALSCALE:GREGORIAN
METHOD:PUBLISH
X-WR-CALNAME:Desert Streams Ministries
X-ORIGINAL-URL:https://dsministry.com
X-WR-CALDESC:Events for Desert Streams Ministries
REFRESH-INTERVAL;VALUE=DURATION:PT1H
X-Robots-Tag:noindex
X-PUBLISHED-TTL:PT1H
BEGIN:VTIMEZONE
TZID:America/New_York
BEGIN:DAYLIGHT
TZOFFSETFROM:-0500
TZOFFSETTO:-0400
TZNAME:EDT
DTSTART:20170312T070000
END:DAYLIGHT
BEGIN:STANDARD
TZOFFSETFROM:-0400
TZOFFSETTO:-0500
TZNAME:EST
DTSTART:20171105T060000
END:STANDARD
END:VTIMEZONE
BEGIN:VEVENT
DTSTART;TZID=America/New_York:20170513T090000
DTEND;TZID=America/New_York:20170513T110000
DTSTAMP:20260421T181655
CREATED:20170427T031902Z
LAST-MODIFIED:20170427T032140Z
UID:895-1494666000-1494673200@dsministry.com
SUMMARY:Mother's Day Brunch
DESCRIPTION:  \nWe are super excited to be a part of Lakeview Baptist Church’s Mother’s Day Brunch\, featuring our very own Courtnay Aycock as the guest speaker. Please feel free to contact Lakeview Baptist Church or Desert Streams for tickets. We hope to see you there!
URL:https://dsministry.com/event/mothers-day-brunch-2/
ATTACH;FMTTYPE=image/jpeg:https://dsministry.com/wp-content/uploads/2017/04/mothers-Day-brunch-2017.jpg
END:VEVENT
END:VCALENDAR