BEGIN:VCALENDAR
VERSION:2.0
PRODID:-//Desert Streams Ministries - ECPv5.13.0//NONSGML v1.0//EN
CALSCALE:GREGORIAN
METHOD:PUBLISH
X-WR-CALNAME:Desert Streams Ministries
X-ORIGINAL-URL:https://dsministry.com
X-WR-CALDESC:Events for Desert Streams Ministries
REFRESH-INTERVAL;VALUE=DURATION:PT1H
X-Robots-Tag:noindex
X-PUBLISHED-TTL:PT1H
BEGIN:VTIMEZONE
TZID:America/New_York
BEGIN:DAYLIGHT
TZOFFSETFROM:-0500
TZOFFSETTO:-0400
TZNAME:EDT
DTSTART:20180311T070000
END:DAYLIGHT
BEGIN:STANDARD
TZOFFSETFROM:-0400
TZOFFSETTO:-0500
TZNAME:EST
DTSTART:20181104T060000
END:STANDARD
END:VTIMEZONE
BEGIN:VEVENT
DTSTART;VALUE=DATE:20181225
DTEND;VALUE=DATE:20181226
DTSTAMP:20260420T160017
CREATED:20181209T183010Z
LAST-MODIFIED:20181209T183010Z
UID:1142-1545696000-1545782399@dsministry.com
SUMMARY:Merry Christmas!
DESCRIPTION:For to us a child is born\, to us a son is given; and the government shall be upon his shoulder\, and his name shall be called Wonderful Counselor\, Mighty God\, Everlasting  Father\, Prince of Peace. Isaiah 9:6\n \nMerry Christmas from all of us at Desert Streams Ministry!
URL:https://dsministry.com/event/merry-christmas/
ATTACH;FMTTYPE=image/jpeg:https://dsministry.com/wp-content/uploads/2018/12/Christmas.jpg
END:VEVENT
END:VCALENDAR