BEGIN:VCALENDAR
VERSION:2.0
PRODID:-//Desert Streams Ministries - ECPv5.13.0//NONSGML v1.0//EN
CALSCALE:GREGORIAN
METHOD:PUBLISH
X-WR-CALNAME:Desert Streams Ministries
X-ORIGINAL-URL:https://dsministry.com
X-WR-CALDESC:Events for Desert Streams Ministries
REFRESH-INTERVAL;VALUE=DURATION:PT1H
X-Robots-Tag:noindex
X-PUBLISHED-TTL:PT1H
BEGIN:VTIMEZONE
TZID:America/New_York
BEGIN:DAYLIGHT
TZOFFSETFROM:-0500
TZOFFSETTO:-0400
TZNAME:EDT
DTSTART:20160313T070000
END:DAYLIGHT
BEGIN:STANDARD
TZOFFSETFROM:-0400
TZOFFSETTO:-0500
TZNAME:EST
DTSTART:20161106T060000
END:STANDARD
END:VTIMEZONE
BEGIN:VEVENT
DTSTART;TZID=America/New_York:20160202T100000
DTEND;TZID=America/New_York:20160202T113000
DTSTAMP:20260422T135723
CREATED:20151123T204125Z
LAST-MODIFIED:20160108T175149Z
UID:317-1454407200-1454412600@dsministry.com
SUMMARY:Be You ~ Mini Bible Study
DESCRIPTION:What would it look like for you to be bold\, transparent\, free\, and truly the person God created you to be? What would it look like for you to BE YOU?\nCome and unwrap the beauty that is already within through the four week mini Bible Study\, Be You!\nChildcare is not provided due to limited space. The cost is only $5 for the 4 week series & pre- registration is required by January 11th.
URL:https://dsministry.com/event/be-you-mini-bible-study/2016-02-02/
END:VEVENT
BEGIN:VEVENT
DTSTART;TZID=America/New_York:20160204T190000
DTEND;TZID=America/New_York:20160204T203000
DTSTAMP:20260422T135723
CREATED:20151123T202131Z
LAST-MODIFIED:20151123T203547Z
UID:299-1454612400-1454617800@dsministry.com
SUMMARY:What Are We Fighting For / A Married Couples Guide to Healthy Conflict Resolution
DESCRIPTION:This 4 week mini- study will help men and women find practical tools to work through areas of conflict in their marriages. We will focus on what we fight about\, how the fight the right way\, and how to resolve ongoing conflict. \nChildcare is not provided due to limited space. Their is no cost associated with this workshop\, however\, space is limited\, so register with us as soon as possible!
URL:https://dsministry.com/event/what-are-we-fighting-for-a-married-couples-guide-to-healthy-conflict-resolution/2016-02-04/
END:VEVENT
END:VCALENDAR