BEGIN:VCALENDAR
VERSION:2.0
PRODID:-//Desert Streams Ministries - ECPv5.13.0//NONSGML v1.0//EN
CALSCALE:GREGORIAN
METHOD:PUBLISH
X-WR-CALNAME:Desert Streams Ministries
X-ORIGINAL-URL:https://dsministry.com
X-WR-CALDESC:Events for Desert Streams Ministries
REFRESH-INTERVAL;VALUE=DURATION:PT1H
X-Robots-Tag:noindex
X-PUBLISHED-TTL:PT1H
BEGIN:VTIMEZONE
TZID:America/New_York
BEGIN:DAYLIGHT
TZOFFSETFROM:-0500
TZOFFSETTO:-0400
TZNAME:EDT
DTSTART:20160313T070000
END:DAYLIGHT
BEGIN:STANDARD
TZOFFSETFROM:-0400
TZOFFSETTO:-0500
TZNAME:EST
DTSTART:20161106T060000
END:STANDARD
END:VTIMEZONE
BEGIN:VEVENT
DTSTART;TZID=America/New_York:20160406T190000
DTEND;TZID=America/New_York:20160406T200000
DTSTAMP:20260422T113209
CREATED:20160414T192113Z
LAST-MODIFIED:20160414T192113Z
UID:441-1459969200-1459972800@dsministry.com
SUMMARY:The Resolution for Men
DESCRIPTION:Join Dr. J David Aycock for this life changing study with other men seeking to know and live out the heart of God in their lives. \nThe Resolution: A Small-Group Study for Men was inspired by the resolution challenge featured in the movie COURAGEOUS. The resolution contained 12 commitments related to characteristics that all men of God want to pursue\, such as responsibility\, faithfulness\, honor\, justice\, forgiveness\, integrity\, and courage. The Resolution Bible study walks participants through each of the 12 challenges\, identifying their biblical roots and outlining how to live out each godly principle in real life. \nThe cost for the book is $10- even if you can’t come every week\, please join us when you can! ( A book is not a requirement to attend)
URL:https://dsministry.com/event/the-resolution-for-men/2016-04-06/
LOCATION:Life Church\, 1721 North Charlotte Ave\, Monroe\, NC\, 28110\, United States
GEO:34.997756;-80.565079
X-APPLE-STRUCTURED-LOCATION;VALUE=URI;X-ADDRESS=Life Church 1721 North Charlotte Ave Monroe NC 28110 United States;X-APPLE-RADIUS=500;X-TITLE=1721 North Charlotte Ave:geo:-80.565079,34.997756
END:VEVENT
BEGIN:VEVENT
DTSTART;TZID=America/New_York:20160406T190000
DTEND;TZID=America/New_York:20160406T200000
DTSTAMP:20260422T113209
CREATED:20160414T192636Z
LAST-MODIFIED:20160802T014845Z
UID:455-1459969200-1459972800@dsministry.com
SUMMARY:The Lies Women Believe and the Truths That Set Them Free
DESCRIPTION:Hi ladies! Join us Wednesday nights for this life changing study: \nIn best selling Lies Women Believe\, Nancy exposes those areas of deception most commonly believed by Christian women—lies about God\, sin\, priorities\, marriage and family\, emotions\, and more. She then sheds light on how we can be delivered from bondage and set free to walk in God’s grace\, forgiveness\, and abundant life. Nancy offers the most effective weapon to counter and overcome Satan’s deceptions: God’s truth! \nEven if you cannot attend every week\, please join us when you can!
URL:https://dsministry.com/event/lies-women-believe-truths-set-free/2016-04-06/
LOCATION:Life Church\, 1721 North Charlotte Ave\, Monroe\, NC\, 28110\, United States
GEO:34.997756;-80.565079
X-APPLE-STRUCTURED-LOCATION;VALUE=URI;X-ADDRESS=Life Church 1721 North Charlotte Ave Monroe NC 28110 United States;X-APPLE-RADIUS=500;X-TITLE=1721 North Charlotte Ave:geo:-80.565079,34.997756
END:VEVENT
BEGIN:VEVENT
DTSTART;TZID=America/New_York:20160421T120000
DTEND;TZID=America/New_York:20160421T140000
DTSTAMP:20260422T113209
CREATED:20160322T181820Z
LAST-MODIFIED:20160322T181820Z
UID:425-1461240000-1461247200@dsministry.com
SUMMARY:Kiwanis Speaking Opportunity
DESCRIPTION:We are excited to be invited to speak at the Monroe Kiwanis Luncheon! This local group of business and civic leaders have invited us to share what we do here at Desert Streams Ministry and we are looking forward to it.
URL:https://dsministry.com/event/kiwanis-speaking-opportunity/
END:VEVENT
BEGIN:VEVENT
DTSTART;TZID=America/New_York:20160429T170000
DTEND;TZID=America/New_York:20160501T130000
DTSTAMP:20260422T113209
CREATED:20151123T205414Z
LAST-MODIFIED:20151123T205414Z
UID:326-1461949200-1462107600@dsministry.com
SUMMARY:The Joy of Sex and Intimacy: God’s Plan for Unity in Marriage
DESCRIPTION:Isn’t it about time we talked about sex\, the way God meant for it to be? This weekend provides a chance to learn about how to work through the challenges we face as couples working to achieve great sex and intimacy the way God meant for us too! This weekend is hosted by Desert Streams Ministry and is taking place in beautiful Asheville\, NC at the Ridgecrest Conference Center.\nThe cost is $250 per couple and includes lodging\, conference materials\, and meals Saturday and Sunday. A $100 non-refundable deposit & registration is due by March 31st and space is limited. Sign up today! \n 
URL:https://dsministry.com/event/the-joy-of-sex-and-intimacy-gods-plan-for-unity-in-marriage/
LOCATION:Ridgecrest Conference Center\, Post Office Box 128 \, Ridgecrest\, 28770
GEO:35.6172346;-82.2811959
X-APPLE-STRUCTURED-LOCATION;VALUE=URI;X-ADDRESS=Ridgecrest Conference Center Post Office Box 128  Ridgecrest 28770;X-APPLE-RADIUS=500;X-TITLE=Post Office Box 128:geo:-82.2811959,35.6172346
END:VEVENT
END:VCALENDAR