BEGIN:VCALENDAR
VERSION:2.0
PRODID:-//Desert Streams Ministries - ECPv5.13.0//NONSGML v1.0//EN
CALSCALE:GREGORIAN
METHOD:PUBLISH
X-WR-CALNAME:Desert Streams Ministries
X-ORIGINAL-URL:https://dsministry.com
X-WR-CALDESC:Events for Desert Streams Ministries
REFRESH-INTERVAL;VALUE=DURATION:PT1H
X-Robots-Tag:noindex
X-PUBLISHED-TTL:PT1H
BEGIN:VTIMEZONE
TZID:America/New_York
BEGIN:DAYLIGHT
TZOFFSETFROM:-0500
TZOFFSETTO:-0400
TZNAME:EDT
DTSTART:20160313T070000
END:DAYLIGHT
BEGIN:STANDARD
TZOFFSETFROM:-0400
TZOFFSETTO:-0500
TZNAME:EST
DTSTART:20161106T060000
END:STANDARD
END:VTIMEZONE
BEGIN:VEVENT
DTSTART;TZID=America/New_York:20160802T100000
DTEND;TZID=America/New_York:20160802T113000
DTSTAMP:20260422T055413
CREATED:20160314T202249Z
LAST-MODIFIED:20160421T205850Z
UID:407-1470132000-1470137400@dsministry.com
SUMMARY:Be You Mini Bible Study
DESCRIPTION:What would it look like for you to be bold\, transparent\, free\, and truly the person God created you to be? What would it look like for you to BE YOU?\nCome and unwrap the beauty that is already within you  through this four week mini Bible Study\, Be You!\nChildcare is not provided due to limited space. The cost is only $10 for the 4 week series & pre- registration is required by July 20th.
URL:https://dsministry.com/event/mini-bible-study-2-2016-09-27/2016-08-02/
LOCATION:Desert Streams Ministry\, 808 Circle Drive\, Monroe\, NC\, 28112\, United States
GEO:34.9930379;-80.547245
X-APPLE-STRUCTURED-LOCATION;VALUE=URI;X-ADDRESS=Desert Streams Ministry 808 Circle Drive Monroe NC 28112 United States;X-APPLE-RADIUS=500;X-TITLE=808 Circle Drive:geo:-80.547245,34.9930379
END:VEVENT
BEGIN:VEVENT
DTSTART;TZID=America/New_York:20160815T170000
DTEND;TZID=America/New_York:20160815T220000
DTSTAMP:20260422T055413
CREATED:20160621T133747Z
LAST-MODIFIED:20160629T152203Z
UID:620-1471280400-1471298400@dsministry.com
SUMMARY:JOIN US FOR A SUPER FUN\, FAMILY-FRIENDLY\, END OF SUMMER BOWLING BASH!
DESCRIPTION:  \nJoin us on AUGUST 15TH FROM 5-10 PM\nFOX’S BOWLING ALLEY / 1901 Skyway Drive /  Monroe\, NC 28110\nCOST: Shoes $3.75 / Game $4.25\nRAFFLE TICKETS: $5 a piece or 5 for $20\nFOX’S Bowling Alley will donate a portion of the game costs and selected foods to Desert Streams Ministry on August 15th from 5-10pm
URL:https://dsministry.com/event/join-us-super-fun-family-friendly-end-summer-bowling-bash/
LOCATION:→
END:VEVENT
END:VCALENDAR