BEGIN:VCALENDAR
VERSION:2.0
PRODID:-//Desert Streams Ministries - ECPv5.13.0//NONSGML v1.0//EN
CALSCALE:GREGORIAN
METHOD:PUBLISH
X-WR-CALNAME:Desert Streams Ministries
X-ORIGINAL-URL:https://dsministry.com
X-WR-CALDESC:Events for Desert Streams Ministries
REFRESH-INTERVAL;VALUE=DURATION:PT1H
X-Robots-Tag:noindex
X-PUBLISHED-TTL:PT1H
BEGIN:VTIMEZONE
TZID:America/New_York
BEGIN:DAYLIGHT
TZOFFSETFROM:-0500
TZOFFSETTO:-0400
TZNAME:EDT
DTSTART:20160313T070000
END:DAYLIGHT
BEGIN:STANDARD
TZOFFSETFROM:-0400
TZOFFSETTO:-0500
TZNAME:EST
DTSTART:20161106T060000
END:STANDARD
END:VTIMEZONE
BEGIN:VEVENT
DTSTART;TZID=America/New_York:20160908T190000
DTEND;TZID=America/New_York:20160908T203000
DTSTAMP:20260422T042343
CREATED:20160421T205110Z
LAST-MODIFIED:20160421T205110Z
UID:469-1473361200-1473366600@dsministry.com
SUMMARY:The Secret to the Marriage You Want by Les & Leslie Parrott
DESCRIPTION:September 8th– October 13th \nIf there’s one thing you can do to significantly improve your marriage\, it’s to begin to show empathy to your spouse. This study will help couples discover how to better understand and integrate the critical concept of empathy within the context of marriage. It will provide solid\, step-by-step\, biblical teaching on how to reduce conflict\, improve communication\, and heighten intimacy by practicing empathy with one’s spouse. Get the marriage you want and bless your spouse in the process. \nChildcare is not provided due to limited space. The cost is $10 per couple for your workbook. \nWe meet at Desert Streams Ministry / 116 East Phifer Street / Monroe\, NC 28110.
URL:https://dsministry.com/event/secret-marriage-want-les-leslie-parrott/2016-09-08/
LOCATION:Desert Streams Ministry\, 808 Circle Drive\, Monroe\, NC\, 28112\, United States
GEO:34.9930379;-80.547245
X-APPLE-STRUCTURED-LOCATION;VALUE=URI;X-ADDRESS=Desert Streams Ministry 808 Circle Drive Monroe NC 28112 United States;X-APPLE-RADIUS=500;X-TITLE=808 Circle Drive:geo:-80.547245,34.9930379
END:VEVENT
BEGIN:VEVENT
DTSTART;TZID=America/New_York:20160913T100000
DTEND;TZID=America/New_York:20160913T120000
DTSTAMP:20260422T042343
CREATED:20160421T210623Z
LAST-MODIFIED:20160421T210643Z
UID:483-1473760800-1473768000@dsministry.com
SUMMARY:Jonah: Navigating a Life Interrupted by Priscilla Shirer
DESCRIPTION:What do we do when God interrupts our lives? Many times\, like Jonah\, we run! In this 7-session Bible study\, Priscilla redefines interruption and shows that interruption is actually God’s invitation to do something beyond our wildest dreams. When Jonah was willing to allow God to interrupt his life\, the result was revival in an entire city! \nChildcare is not provided due to limited space. The cost is only $15 for the 7 week series & pre- registration is required by September 1st.
URL:https://dsministry.com/event/jonah-navigating-life-interrupted-priscilla-shirer/2016-09-13/
LOCATION:Desert Streams Ministry\, 808 Circle Drive\, Monroe\, NC\, 28112\, United States
GEO:34.9930379;-80.547245
X-APPLE-STRUCTURED-LOCATION;VALUE=URI;X-ADDRESS=Desert Streams Ministry 808 Circle Drive Monroe NC 28112 United States;X-APPLE-RADIUS=500;X-TITLE=808 Circle Drive:geo:-80.547245,34.9930379
END:VEVENT
END:VCALENDAR