BEGIN:VCALENDAR
VERSION:2.0
PRODID:-//Desert Streams Ministries - ECPv5.13.0//NONSGML v1.0//EN
CALSCALE:GREGORIAN
METHOD:PUBLISH
X-WR-CALNAME:Desert Streams Ministries
X-ORIGINAL-URL:https://dsministry.com
X-WR-CALDESC:Events for Desert Streams Ministries
REFRESH-INTERVAL;VALUE=DURATION:PT1H
X-Robots-Tag:noindex
X-PUBLISHED-TTL:PT1H
BEGIN:VTIMEZONE
TZID:America/New_York
BEGIN:DAYLIGHT
TZOFFSETFROM:-0500
TZOFFSETTO:-0400
TZNAME:EDT
DTSTART:20170312T070000
END:DAYLIGHT
BEGIN:STANDARD
TZOFFSETFROM:-0400
TZOFFSETTO:-0500
TZNAME:EST
DTSTART:20171105T060000
END:STANDARD
END:VTIMEZONE
BEGIN:VEVENT
DTSTART;TZID=America/New_York:20170606T100000
DTEND;TZID=America/New_York:20170606T113000
DTSTAMP:20260421T152520
CREATED:20170512T165938Z
LAST-MODIFIED:20170512T170015Z
UID:909-1496743200-1496748600@dsministry.com
SUMMARY:Ministry at House of Pearls
DESCRIPTION:Desert Streams is excited to be able to minister at The House of Pearls! This ministry’s mission is to help facilitate a transformation of the ladies into a new creation. This helps them become better wives\, mothers\, daughters\, sisters\, and friends. The House of Pearls goal is for families to be reunited and restored. \nTheir mission is the heart of Desert Streams- restoration and healing through Jesus Christ.We will ministering there every other Tuesday morning and can’t wait to see what the Lord will do with our time together.
URL:https://dsministry.com/event/ministry-house-pearls/2017-06-06/
END:VEVENT
END:VCALENDAR